BEGIN:VCALENDAR
VERSION:2.0
PRODID:-//Creston Museum, Creston BC - ECPv6.15.20//NONSGML v1.0//EN
CALSCALE:GREGORIAN
METHOD:PUBLISH
X-WR-CALNAME:Creston Museum, Creston BC
X-ORIGINAL-URL:https://www.crestonmuseum.ca
X-WR-CALDESC:Events for Creston Museum, Creston BC
REFRESH-INTERVAL;VALUE=DURATION:PT1H
X-Robots-Tag:noindex
X-PUBLISHED-TTL:PT1H
BEGIN:VTIMEZONE
TZID:America/Denver
BEGIN:DAYLIGHT
TZOFFSETFROM:-0700
TZOFFSETTO:-0600
TZNAME:MDT
DTSTART:20180311T090000
END:DAYLIGHT
BEGIN:STANDARD
TZOFFSETFROM:-0600
TZOFFSETTO:-0700
TZNAME:MST
DTSTART:20181104T080000
END:STANDARD
BEGIN:DAYLIGHT
TZOFFSETFROM:-0700
TZOFFSETTO:-0600
TZNAME:MDT
DTSTART:20190310T090000
END:DAYLIGHT
BEGIN:STANDARD
TZOFFSETFROM:-0600
TZOFFSETTO:-0700
TZNAME:MST
DTSTART:20191103T080000
END:STANDARD
BEGIN:DAYLIGHT
TZOFFSETFROM:-0700
TZOFFSETTO:-0600
TZNAME:MDT
DTSTART:20200308T090000
END:DAYLIGHT
BEGIN:STANDARD
TZOFFSETFROM:-0600
TZOFFSETTO:-0700
TZNAME:MST
DTSTART:20201101T080000
END:STANDARD
BEGIN:DAYLIGHT
TZOFFSETFROM:-0700
TZOFFSETTO:-0600
TZNAME:MDT
DTSTART:20210314T090000
END:DAYLIGHT
BEGIN:STANDARD
TZOFFSETFROM:-0600
TZOFFSETTO:-0700
TZNAME:MST
DTSTART:20211107T080000
END:STANDARD
BEGIN:DAYLIGHT
TZOFFSETFROM:-0700
TZOFFSETTO:-0600
TZNAME:MDT
DTSTART:20220313T090000
END:DAYLIGHT
BEGIN:STANDARD
TZOFFSETFROM:-0600
TZOFFSETTO:-0700
TZNAME:MST
DTSTART:20221106T080000
END:STANDARD
END:VTIMEZONE
BEGIN:VEVENT
DTSTART;TZID=America/Denver:20210317T100000
DTEND;TZID=America/Denver:20210327T150000
DTSTAMP:20260423T175655
CREATED:20210313T185020Z
LAST-MODIFIED:20210313T230541Z
UID:4669-1615975200-1616857200@www.crestonmuseum.ca
SUMMARY:Spring Break at the Museum
DESCRIPTION:Looking for something to do over Spring Break? We can help!\nWe’ll help you investigate the local story through guided explorations of the Museum’s exhibits\, hands-on activities\, and more! \nWe have several programs available\, all adapted to COVID-safe protocols. Choose the one that strikes your fancy\, then book a time slot that works for you – it’s exclusively for you and the people in your personal social bubble: Wednesday through Saturday\, beginning anytime between 10:00 AM and 3:00 PM. Children must be accompanied by a parent or caregiver. Maximum six people per group\, please; $20 per group. \nTo book: Contact us at 250-428-9262 or programs@crestonmuseum.ca. Advance booking required. \n\nScavenger Hunt: Everything’s connected\, sometimes in surprising ways. Look for everything that’s on your list and explore the connections between them!\nPlaydough Cabin: Explore the challenges of building a home for yourself in the new communities of the Creston Valley – then try it yourself!\nButter-Making: Resourcefulness was the order of the day for the Valley’s first settlers – how are you at making the things you need?\nApple Packing: There’s a lot of work involved in raising fruit\, especially in a new community! Can you handle it all?\nA Lesson in the Schoolhouse: School today is very different from the way it was a century ago. Check it out for yourself!
URL:https://www.crestonmuseum.ca/event/spring-break-at-the-museum/
LOCATION:Creston Museum\, 219 Devon Street\, Creston\, British Columbia\, V0B 1G3\, Canada
CATEGORIES:Community,Event,Kids & Families
ATTACH;FMTTYPE=image/jpeg:https://www.crestonmuseum.ca/wp-content/uploads/2021/03/Spring-Break1.jpg
ORGANIZER;CN="Creston Museum":MAILTO:programs@crestonmuseum.ca
END:VEVENT
BEGIN:VEVENT
DTSTART;TZID=America/Denver:20201212T140000
DTEND;TZID=America/Denver:20201212T160000
DTSTAMP:20260423T175655
CREATED:20201204T150023Z
LAST-MODIFIED:20201204T164932Z
UID:4491-1607781600-1607788800@www.crestonmuseum.ca
SUMMARY:Virtual Visits with Santa
DESCRIPTION:As it happens\, Santa loves museums. It’s a little known fact\, but they’re his favourite places to visit when he takes one of his rare vacations from the North Pole. So when Santa realised he couldn’t come to Creston in person this year to visit with all the good little girls and boys\, he called us to ask if we could help him out. Of course we were happy to! \nVirtual Visits with Santa\nSaturday\, December 12\, 2020\n2:00 – 4:00 PM\nCall the Creston Museum at 250-428-9262 to sign up for a special personal visit with Santa on Saturday\, December 12. Then\, watch for an email from the Creston Museum (crestonmuseum@telus.net) that tells you how to join him on Zoom (Santa has recently discovered Zoom and he thinks it’s the greatest thing since sliced bread). \nDonations are very much appreciated! All donations will be shared between the Creston Museum and PAWS (Santa loves animals\, too\, you know. How would he do his job without the reindeer to pull his sleigh?). You can make a donation with a credit card or etransfer when you call to sign up\, or click here to go to our secure donations page at CanadaHelps.org. If you do that\, though\, please include a note that it’s for a visit with Santa\, so we’ll know to share it with PAWS. \nDon’t worry – COVID won’t keep Santa from making his rounds on Christmas Eve! He’s an essential service! He\, Mrs. Claus\, the elves\, and the reindeer have been isolating themselves up there at the North Pole\, making sure they all stay healthy and well so they can travel around the world delivering presents. You can follow him – and find lots of information and games – on NORAD’s Santa tracker website.
URL:https://www.crestonmuseum.ca/event/virtual-visits-with-santa/
LOCATION:British Columbia
CATEGORIES:Community,Event,Kids & Families
ATTACH;FMTTYPE=image/jpeg:https://www.crestonmuseum.ca/wp-content/uploads/2020/12/Santa-Dani-Sophie-scaled.jpeg
ORGANIZER;CN="Creston Museum":MAILTO:programs@crestonmuseum.ca
END:VEVENT
BEGIN:VEVENT
DTSTART;TZID=America/Denver:20200627T160000
DTEND;TZID=America/Denver:20200627T170000
DTSTAMP:20260423T175655
CREATED:20200528T183518Z
LAST-MODIFIED:20200528T183518Z
UID:3930-1593273600-1593277200@www.crestonmuseum.ca
SUMMARY:Annual General Meeting
DESCRIPTION:Now that social-distancing guidelines are starting to relax a bit\, we’re able to turn our attention to some of the behind-the-scenes stuff that’s required for a non-profit organisation – including our Annual General Meeting. \nIt’s your chance to review the Board’s activities; we’ve got some exciting announcements to make; and you’re very welcome to explore the Museum and see some of the strategies we’re implementing to ensure all our visitors have an exciting and worthwhile experience\, even in this new hands-off world. we hope you’ll join us! \nWeather permitting\, the AGM will be held outdoors\, in the Museum’s courtyard\, with plenty of space and fresh air for everyone. We hope you’ll join us and enjoy the Museum’s lovely gardens and patio while you’re at it! (rainy-day alternate is the Carr Building\, on the Museum’s grounds\, but we’re optimistic that June 27th will be a lovely sunny day!). \nAnnual General Meeting \nSaturday\, June 27\n4:00 PM\nCreston Museum \nAgenda: \n1. Call to Order / Adoption of Agenda \n2. Approval of Minutes of 2019 AGM \n3. President’s Report \n4. Financial Report\na. Appointment of Auditors for 2020 \n5. Staff Reports\na. Manager\nb. Program Co-ordinator \n6. Business Arising from the Reports \n7. Election of Board of Directors\na. Slate of Directors \n8. New Business\na.\nb. \n9. Adjournment
URL:https://www.crestonmuseum.ca/event/annual-general-meeting-2/
LOCATION:Creston Museum\, 219 Devon Street\, Creston\, British Columbia\, V0B 1G3\, Canada
CATEGORIES:Community,Event
ATTACH;FMTTYPE=image/jpeg:https://www.crestonmuseum.ca/wp-content/uploads/2020/05/Legion-Drumhead-1949.jpg
ORGANIZER;CN="Creston Museum":MAILTO:programs@crestonmuseum.ca
END:VEVENT
BEGIN:VEVENT
DTSTART;VALUE=DATE:20200601
DTEND;VALUE=DATE:20200701
DTSTAMP:20260423T175655
CREATED:20200602T173457Z
LAST-MODIFIED:20200610T233843Z
UID:4001-1590969600-1593561599@www.crestonmuseum.ca
SUMMARY:Kids Day (Month)
DESCRIPTION:Welcome to Kids Day! (Month) \nThis is the first in a month long series of twice weekly activities/challenges hosted by the Creston Museum in lieu of our traditional Kids Day! To participate: Complete the challenge and share it with us! \nAll the challenges will be listed here on Mondays and Thursdays each week – scroll down to see them all! \nTo share your challenge with us: post it on our Facebook\, Twitter\, or Instagram using the hashtag #KidsDay; send us a photo via email; or bring your project to the Creston Museum (we’re open 10:00 – 4:00\, Tuesday to Saturday). \nCHALLENGE #4: INVENT A FOUR-INGREDIENT RECIPE\nAll throughout history\, there have been times when money is tight\, and food is short. So people had to get creative with what they had to eat! \nHere is your challenge: \n\n–> Invent a 4 ingredient recipe using ONLY things you have in your house. Don’t go to the store and buy anything! Any Spices other than salt and pepper count as an ingredient! \n\n  \n  \n  \n  \nCHALLENGE #3: CROCHET THREE GRANNY SQUARES\nCrocheting is the art of making a fabric through loops of yarn using a hook. It has many handy-dandy uses! You can make everything from clothes and slippers\, to cloths\, to blankets with it\, much like knitting! Instead of using two needles\, you use one hook. \nA granny square is an easy way to piece together a larger blanket\, one square at a time. Once you have enough squares for the size of blanket you want\, you sew or crochet them all together. You can do the same colours of granny squares\, or different colours; the same pattern\, or different patterns! \n\n(if you don’t know how to crochet\, you can check out our how-to lesson on the Creston Museum Online Learning Center!) \n  \n\nCHALLENGE #2: MAKE AN OLD PIECE OF CLOTHING INTO SOMETHING NEW\nHand-me-downs and re-purposing have been essentials for as long as people have worn clothes! During the depression\, when flour companies found out that people were making clothing for themselves and their children out of the 100-lb flour sacks\, they started making them with prints on them! \nYour challenge today:\n–> Take clothing that you don’t wear anymore\, or some clothes that are too big/too small\, and turn them into something wearable! \n  \n  \n  \n  \n  \n  \nCHALLENGE #1: BUILD A BIRDHOUSE WITHOUT USING WOOD!\n\nWho doesn’t love to watch birds flying back and forth to their nests in the spring! But sometimes getting a wooden house kit isn’t the easiest\, and not everybody can just make one. So here is your first challenge!\n–> Build a birdhouse out of recycled material you can find around your house! \n(Keep in mind\, it has to be safe for the birdies so don’t use or decorate it with anything they can get caught or tangled in!) \n(Photo courtesy Google Images)
URL:https://www.crestonmuseum.ca/event/kids-day-month/
LOCATION:Creston Museum\, 219 Devon Street\, Creston\, British Columbia\, V0B 1G3\, Canada
CATEGORIES:Community,Event,Kids & Families
ATTACH;FMTTYPE=image/png:https://www.crestonmuseum.ca/wp-content/uploads/2020/05/Kids-Day.png
ORGANIZER;CN="Creston Museum":MAILTO:programs@crestonmuseum.ca
END:VEVENT
BEGIN:VEVENT
DTSTART;TZID=America/Denver:20200427T190000
DTEND;TZID=America/Denver:20200427T220000
DTSTAMP:20260423T175655
CREATED:20200307T000825Z
LAST-MODIFIED:20200311T163703Z
UID:3158-1588014000-1588024800@www.crestonmuseum.ca
SUMMARY:The Night the High School Burned
DESCRIPTION:On a Wednesday morning in April 1980\, Leanne\, a Grade 11 student at Prince Charles Secondary School\, in Creston BC\, called her friend. “Maureen\,” she said\, “there’s no school today.” \n“Why not?” asked Maureen. \n“Because there’s no school.” \nAt about 2:00 AM the night before\, fire had broken out in the thirty-year-old building. Within an hour\, the structure was fully engulfed and all firefighters could do was hose down nearby residences to keep them from catching fire. By dawn\, the school – one of the finest in the Kootenays; home to award-winning band\, drama\, and art programs; producer of provincial championship sports teams; provider of a vast array of academic and trades programs – was gone. \nThe Creston Museum has film footage. \nWe’re marking the fortieth anniversary of the PCSS fire with a special presentation at the Tivoli Theatre. \nIt’s a double feature! \nFirst on the bill: Hockey! Third period of a nail-biter Game 6 playoff matchup between the Creston Clippers and the Kimberley Knights! \nFollowed by The Night the High School Burned: historic photos of the school from its construction to the day it burned; highlights from its history; memories of students and teachers – and approximately twenty-five minutes of film footage of the fire that destroyed it all. \nDoors open 6:30; show starts at 7:00. There will be a very brief AGM of the Creston & District Historical & Museum Society in between the two features. \nAdmission: Members of the Historical Society – by donation; Non-members $10. Admission includes pop or popcorn. Not a member? Sign up here!
URL:https://www.crestonmuseum.ca/event/high-school-burned/
LOCATION:Tivoli Theatre\, 1411 Canyon Street\, Creston\, British Columbia\, V0B 1G0\, Canada
CATEGORIES:Community,Event
ATTACH;FMTTYPE=image/jpeg:https://www.crestonmuseum.ca/wp-content/uploads/2020/03/Logo.jpg
ORGANIZER;CN="Creston Museum":MAILTO:programs@crestonmuseum.ca
END:VEVENT
BEGIN:VEVENT
DTSTART;TZID=America/Denver:20191208T100000
DTEND;TZID=America/Denver:20191208T150000
DTSTAMP:20260423T175655
CREATED:20191130T224426Z
LAST-MODIFIED:20191130T224426Z
UID:3020-1575799200-1575817200@www.crestonmuseum.ca
SUMMARY:Little Railroad Open House
DESCRIPTION:The Model Railway at the Creston Museum is always a hit with the youngsters. \nThe trains are running! The model railway’s trains at the Creston Museum\, that is! \nThe Seventh Siding Trackers Model Railway Club at the Creston Museum has been busily upgrading tracks and adding details – and now they’re hosting a special pre-Christmas Open House so you can check it out! \nSunday\, December 8 \n10:00 – 3:00 PM \nAdmission free – but donations are very much appreciated! \nInterested in joining the club and trying your hand/getting back into/doing more model railroading? The members of the Club will be glad to fill you in!
URL:https://www.crestonmuseum.ca/event/little-railroad-open-house/
LOCATION:Creston Museum\, 219 Devon Street\, Creston\, British Columbia\, V0B 1G3\, Canada
CATEGORIES:Community,Event,Kids & Families
ORGANIZER;CN="Creston Museum":MAILTO:programs@crestonmuseum.ca
END:VEVENT
BEGIN:VEVENT
DTSTART;TZID=America/Denver:20191207T140000
DTEND;TZID=America/Denver:20191207T160000
DTSTAMP:20260423T175655
CREATED:20191130T234150Z
LAST-MODIFIED:20191201T001224Z
UID:3023-1575727200-1575734400@www.crestonmuseum.ca
SUMMARY:History Mystery Play-Time
DESCRIPTION:Here at the Creston Museum\, we’re always receiving new donations of stuff connected to local history. \nOne of our most recent donations is a collections of several dozen photographs\, all from the 1940s to 1960s\, and most of them we haven’t been able to identify. \nLike this one: \n \nI have to admit\, this one’s intriguing! Look at the size of that parade – on an evidently cold winter’s day! And all the signs encouraging people to come out and cheer while Creston thoroughly trounced Kimberley at…something. But what? What was the event? And what on earth was going on between Creston and Kimberley to inspire the kind of rivalry that this photo suggests? \nWe’d like to invite you to check out these photos – and if you can tell us something about what’s happening in them\, we’d sure love to hear it! \nHistory Mystery Play-Time \nSaturday\, December 7 \n2:00 – 4:00 PM \nIn the Archives building at the Creston Museum \n219 Devon Street\, Creston BC \nAdmission by donation \n  \nSneak preview and free admission (with coffee and cookies!) exclusively for members of the Creston Museum: 12:00 – 2:00 PM
URL:https://www.crestonmuseum.ca/event/history-mystery-play-time/
LOCATION:Creston Museum\, 219 Devon Street\, Creston\, British Columbia\, V0B 1G3\, Canada
CATEGORIES:Community,Event,Exhibit Opening,Kids & Families
ORGANIZER;CN="Creston Museum":MAILTO:programs@crestonmuseum.ca
END:VEVENT
BEGIN:VEVENT
DTSTART;TZID=America/Denver:20190712T100000
DTEND;TZID=America/Denver:20190909T153000
DTSTAMP:20260423T175655
CREATED:20190329T182634Z
LAST-MODIFIED:20190713T192107Z
UID:2808-1562925600-1568043000@www.crestonmuseum.ca
SUMMARY:The Common Thread: Landscapes and Lumber
DESCRIPTION:Local artist Sandy Kunze brings her quirky and creative use of unusual materials to a special exhibit at the Creston Museum this summer. Her work shows her affection for forest trees while also addressing the impact of logging. \nJuly 12 – September 16; open throughout Museum hours. Admission included in regular Museum admission. \nOpening Reception: Sunday\, July 14\, 2:00 – 4:00 PM
URL:https://www.crestonmuseum.ca/event/landscapes-and-lumberjacks/
LOCATION:Creston Museum\, 219 Devon Street\, Creston\, British Columbia\, V0B 1G3\, Canada
CATEGORIES:Community,Exhibit Opening
ATTACH;FMTTYPE=image/jpeg:https://www.crestonmuseum.ca/wp-content/uploads/2019/03/Lumberjack.jpg
ORGANIZER;CN="Creston Museum":MAILTO:programs@crestonmuseum.ca
END:VEVENT
BEGIN:VEVENT
DTSTART;TZID=America/Denver:20190627T130000
DTEND;TZID=America/Denver:20190627T160000
DTSTAMP:20260423T175655
CREATED:20190530T161004Z
LAST-MODIFIED:20190621T224512Z
UID:2891-1561640400-1561651200@www.crestonmuseum.ca
SUMMARY:Multiculturalism Day
DESCRIPTION:Multiculturalism Day and the Creston Refugee Committee 40th Anniversary \nFor forty years\, the Creston Refugee Committee has been sponsoring families from diverse cultures to come to Canada and live in Creston. Join is on Canadian Multiculturalism Day\, June 27th\, to celebrate this milestone. Refugee families past and present\, including five family members who arrived in Creston forty years ago\, will be attending. \n\nCelebration of cultures through food\, dress\, music.\nAnniversary Cake\nPresentations\nMeet the families\n\nJune 27\, 2019 \nCreston Museum \n1:00 – 4:00 PM \nSchedule of the afternoon (please note\, times below are approximate): \n\nLuncheon – 1:15pm\nPresentation – 2:15pm\nAnniversary Cake – 3:00pm\nSocial – 3:00-4:00pm\n\nThis event is free\, but please pre-register so we know how many people to expect! \nQuestions? Call 250-402-9448 or 250-254-1421 \n 
URL:https://www.crestonmuseum.ca/event/multiculturalism-day/
LOCATION:Creston Museum\, 219 Devon Street\, Creston\, British Columbia\, V0B 1G3\, Canada
CATEGORIES:Community,Event,Guided Tours,Kids & Families
ATTACH;FMTTYPE=image/jpeg:https://www.crestonmuseum.ca/wp-content/uploads/2019/05/RC-Logo.jpg
ORGANIZER;CN="Creston Museum":MAILTO:programs@crestonmuseum.ca
END:VEVENT
END:VCALENDAR