BEGIN:VCALENDAR
VERSION:2.0
PRODID:-//Creston Museum, Creston BC - ECPv6.15.20//NONSGML v1.0//EN
CALSCALE:GREGORIAN
METHOD:PUBLISH
X-ORIGINAL-URL:https://www.crestonmuseum.ca
X-WR-CALDESC:Events for Creston Museum, Creston BC
REFRESH-INTERVAL;VALUE=DURATION:PT1H
X-Robots-Tag:noindex
X-PUBLISHED-TTL:PT1H
BEGIN:VTIMEZONE
TZID:America/Toronto
BEGIN:DAYLIGHT
TZOFFSETFROM:-0500
TZOFFSETTO:-0400
TZNAME:EDT
DTSTART:20250309T070000
END:DAYLIGHT
BEGIN:STANDARD
TZOFFSETFROM:-0400
TZOFFSETTO:-0500
TZNAME:EST
DTSTART:20251102T060000
END:STANDARD
BEGIN:DAYLIGHT
TZOFFSETFROM:-0500
TZOFFSETTO:-0400
TZNAME:EDT
DTSTART:20260308T070000
END:DAYLIGHT
BEGIN:STANDARD
TZOFFSETFROM:-0400
TZOFFSETTO:-0500
TZNAME:EST
DTSTART:20261101T060000
END:STANDARD
BEGIN:DAYLIGHT
TZOFFSETFROM:-0500
TZOFFSETTO:-0400
TZNAME:EDT
DTSTART:20270314T070000
END:DAYLIGHT
BEGIN:STANDARD
TZOFFSETFROM:-0400
TZOFFSETTO:-0500
TZNAME:EST
DTSTART:20271107T060000
END:STANDARD
END:VTIMEZONE
BEGIN:VEVENT
DTSTART;TZID=America/Toronto:20260803T130000
DTEND;TZID=America/Toronto:20260808T150000
DTSTAMP:20260422T191329
CREATED:20230502T193619Z
LAST-MODIFIED:20260415T231356Z
UID:5340-1785762000-1786201200@www.crestonmuseum.ca
SUMMARY:Pioneer Camp 2026!
DESCRIPTION:WARNING: YOU WILL BE REQUIRED TO TRAVEL BACK IN TIME \nGet creative while experiencing day-to-day life of children a century ago! Join us as we explore the challenges and triumphs of the Creston Valley’s earliest settler kids! \n  \nFOR AGES 5-9! \n  \nWHEN? \nAugust 3rd – 8th \n1:00 – 3:00 \n  \nFEE: \n$30 per child for the full week\, or $10 per day! \n  \nRegister Here: \n\n\n\n\nPioneer Camp Registration\nPioneer Camp Registration\n\n\n\n\n\n\n\n    Your Name\n        *\n    \n    \n    \n    \n\n\n    Email Address\n        \n    \n    \n    \n    \n\n\n    Phone Number (please give a number that can also be used as an emergency contact number)\n        *\n    \n    \n    \n    \n\n\n    Child's Name\n        *\n    \n    \n    \n    \n\n\n    Age\n        *\n    \n    		\n		5678	\n	\n    \n    \n\n\n    Please let us know if there are any medical or physical restrictions we should be aware of (allergies\, asthma\, etc)\n        \n    \n    \n    \n    \n\n\n    I would like to register my child for:\n        *\n    \n    					\n			 Full Week - August 3 -August 8\n					\n			 These days only:\n\n    \n    \n\n\n    Days:\n        \n    \n    \n    \n    \n\n\n    Add second child\n        \n    \n    					\n					 Yes\n					\n					 No\n\n    \n    \n\n\n    Child 2: Name\n        \n    \n    \n    \n    \n\n\n    Child 2: Age\n        \n    \n    		\n		5678	\n	\n    \n    \n\n\n    Child 2: Medical or physical restrictions\n        \n    \n    \n    \n    \n\n\n    Child 2: I would like to register my child for:\n        \n    \n    					\n			 Full Week - August 5 - August 9\n					\n			 These days only:\n\n    \n    \n\n\n    Child 2 Days:\n        \n    \n    \n    \n    \n\n\n    I hereby give my full consent and approval for my child to participate in the activities of this Camp.\n        \n    \n    \n    \n    \n\n\n    I acknowledge that certain RISKS OF INJURY are inherent to participating in these activities. \n        \n    \n    \n    \n    \n\n\n    I hereby waive\, release and hold harmless the Creston & District Historical & Museum Society\, its officers\, staff\, and volunteers for any injury that may be suffered by my child in the normal course of participation in the activities. \n        *\n    \n    					\n					 I agree\n\n    \n    \n\n\n    Name\n        \n    \n    \n	\n		Name	\n\n	\n					\n				\n					First				\n\n				First			\n						\n				\n					Last				\n\n				Last			\n				\n\n\n    \n    \n\n\n    Date\n        \n    \n    \n    \n    \n\n\n	\n\nSubmit\n\n\n\n	\n			\n			\n				If you are human\, leave this field blank.			\n			\n		\n		\n\n\n\nΔ \n\n\n  \n 
URL:https://www.crestonmuseum.ca/event/pioneer-camp/
LOCATION:Creston Museum\, 219 Devon Street\, Creston\, British Columbia\, V0B 1G3\, Canada
CATEGORIES:Kids & Families
ORGANIZER;CN="Creston Museum":MAILTO:programs@crestonmuseum.ca
END:VEVENT
END:VCALENDAR